BEGIN:VCALENDAR
VERSION:2.0
PRODID:-//The Meeting Place (Bookham) - ECPv6.15.20//NONSGML v1.0//EN
CALSCALE:GREGORIAN
METHOD:PUBLISH
X-WR-CALNAME:The Meeting Place (Bookham)
X-ORIGINAL-URL:https://themeetingplace.org.uk
X-WR-CALDESC:Events for The Meeting Place (Bookham)
REFRESH-INTERVAL;VALUE=DURATION:PT1H
X-Robots-Tag:noindex
X-PUBLISHED-TTL:PT1H
BEGIN:VTIMEZONE
TZID:Europe/London
BEGIN:DAYLIGHT
TZOFFSETFROM:+0000
TZOFFSETTO:+0100
TZNAME:BST
DTSTART:20250330T010000
END:DAYLIGHT
BEGIN:STANDARD
TZOFFSETFROM:+0100
TZOFFSETTO:+0000
TZNAME:GMT
DTSTART:20251026T010000
END:STANDARD
BEGIN:DAYLIGHT
TZOFFSETFROM:+0000
TZOFFSETTO:+0100
TZNAME:BST
DTSTART:20260329T010000
END:DAYLIGHT
BEGIN:STANDARD
TZOFFSETFROM:+0100
TZOFFSETTO:+0000
TZNAME:GMT
DTSTART:20261025T010000
END:STANDARD
BEGIN:DAYLIGHT
TZOFFSETFROM:+0000
TZOFFSETTO:+0100
TZNAME:BST
DTSTART:20270328T010000
END:DAYLIGHT
BEGIN:STANDARD
TZOFFSETFROM:+0100
TZOFFSETTO:+0000
TZNAME:GMT
DTSTART:20271031T010000
END:STANDARD
END:VTIMEZONE
BEGIN:VEVENT
DTSTART;TZID=Europe/London:20260421T094500
DTEND;TZID=Europe/London:20260421T111500
DTSTAMP:20260420T034812
CREATED:20260314T161805Z
LAST-MODIFIED:20260314T161809Z
UID:282549-1776764700-1776770100@themeetingplace.org.uk
SUMMARY:Language hub - beginners
DESCRIPTION:
URL:https://themeetingplace.org.uk/event_/language-hub-beginners-2/
LOCATION:Mole Valley Skills Hub\, Swan Centre\, Mole Valley Skills Hub\, Leatherhead\, Surrey\, KT228AH\, United Kingdom
END:VEVENT
BEGIN:VEVENT
DTSTART;TZID=Europe/London:20260421T110000
DTEND;TZID=Europe/London:20260421T120000
DTSTAMP:20260420T034812
CREATED:20260314T162507Z
LAST-MODIFIED:20260314T162513Z
UID:282565-1776769200-1776772800@themeetingplace.org.uk
SUMMARY:Community Fridge
DESCRIPTION:
URL:https://themeetingplace.org.uk/event_/community-fridge-28/
LOCATION:Bookham Baptist Church\, Lower Road\, Bookham\, Surrey\, KT23 4DH\, United Kingdom
END:VEVENT
BEGIN:VEVENT
DTSTART;TZID=Europe/London:20260421T114500
DTEND;TZID=Europe/London:20260421T131500
DTSTAMP:20260420T034812
CREATED:20260314T162140Z
LAST-MODIFIED:20260314T162146Z
UID:282557-1776771900-1776777300@themeetingplace.org.uk
SUMMARY:Language hub - elementary
DESCRIPTION:
URL:https://themeetingplace.org.uk/event_/language-hub-elementary-3/
LOCATION:Mole Valley Skills Hub\, Swan Centre\, Mole Valley Skills Hub\, Leatherhead\, Surrey\, KT228AH\, United Kingdom
END:VEVENT
BEGIN:VEVENT
DTSTART;TZID=Europe/London:20260424T110000
DTEND;TZID=Europe/London:20260424T120000
DTSTAMP:20260420T034812
CREATED:20260314T162918Z
LAST-MODIFIED:20260314T162922Z
UID:282573-1777028400-1777032000@themeetingplace.org.uk
SUMMARY:Community Fridge
DESCRIPTION:
URL:https://themeetingplace.org.uk/event_/community-fridge-32/
LOCATION:Bookham Baptist Church\, Lower Road\, Bookham\, Surrey\, KT23 4DH\, United Kingdom
END:VEVENT
BEGIN:VEVENT
DTSTART;TZID=Europe/London:20260425T100000
DTEND;TZID=Europe/London:20260425T120000
DTSTAMP:20260420T034812
CREATED:20260314T163446Z
LAST-MODIFIED:20260314T163451Z
UID:282586-1777111200-1777118400@themeetingplace.org.uk
SUMMARY:Coffee Shop
DESCRIPTION:
URL:https://themeetingplace.org.uk/event_/coffee-shop-7/
LOCATION:Bookham Baptist Church\, Lower Road\, Bookham\, Surrey\, KT23 4DH\, United Kingdom
END:VEVENT
BEGIN:VEVENT
DTSTART;TZID=Europe/London:20260425T103000
DTEND;TZID=Europe/London:20260425T113000
DTSTAMP:20260420T034812
CREATED:20260314T163249Z
LAST-MODIFIED:20260314T163256Z
UID:282580-1777113000-1777116600@themeetingplace.org.uk
SUMMARY:Community Fridge
DESCRIPTION:
URL:https://themeetingplace.org.uk/event_/community-fridge-35/
LOCATION:Bookham Baptist Church\, Lower Road\, Bookham\, Surrey\, KT23 4DH\, United Kingdom
END:VEVENT
BEGIN:VEVENT
DTSTART;TZID=Europe/London:20260427T093000
DTEND;TZID=Europe/London:20260427T110000
DTSTAMP:20260420T034812
CREATED:20260314T162248Z
LAST-MODIFIED:20260314T162253Z
UID:282559-1777282200-1777287600@themeetingplace.org.uk
SUMMARY:Lip-reading class
DESCRIPTION:
URL:https://themeetingplace.org.uk/event_/lip-reading-class/
LOCATION:Zoom Meeting\, United Kingdom
END:VEVENT
BEGIN:VEVENT
DTSTART;TZID=Europe/London:20260428T094500
DTEND;TZID=Europe/London:20260428T111500
DTSTAMP:20260420T034812
CREATED:20260314T161852Z
LAST-MODIFIED:20260314T161857Z
UID:282551-1777369500-1777374900@themeetingplace.org.uk
SUMMARY:Language hub - beginners
DESCRIPTION:
URL:https://themeetingplace.org.uk/event_/language-hub-beginners-3/
LOCATION:Mole Valley Skills Hub\, Swan Centre\, Mole Valley Skills Hub\, Leatherhead\, Surrey\, KT228AH\, United Kingdom
END:VEVENT
BEGIN:VEVENT
DTSTART;TZID=Europe/London:20260428T110000
DTEND;TZID=Europe/London:20260428T120000
DTSTAMP:20260420T034812
CREATED:20260314T162545Z
LAST-MODIFIED:20260314T162550Z
UID:282567-1777374000-1777377600@themeetingplace.org.uk
SUMMARY:Community Fridge
DESCRIPTION:
URL:https://themeetingplace.org.uk/event_/community-fridge-29/
LOCATION:Bookham Baptist Church\, Lower Road\, Bookham\, Surrey\, KT23 4DH\, United Kingdom
END:VEVENT
BEGIN:VEVENT
DTSTART;TZID=Europe/London:20260428T114500
DTEND;TZID=Europe/London:20260428T131500
DTSTAMP:20260420T034812
CREATED:20260314T162043Z
LAST-MODIFIED:20260314T162047Z
UID:282555-1777376700-1777382100@themeetingplace.org.uk
SUMMARY:Language hub - elementary
DESCRIPTION:
URL:https://themeetingplace.org.uk/event_/language-hub-elementary-2/
LOCATION:Mole Valley Skills Hub\, Swan Centre\, Mole Valley Skills Hub\, Leatherhead\, Surrey\, KT228AH\, United Kingdom
END:VEVENT
END:VCALENDAR